BEGIN:VCALENDAR
VERSION:2.0
PRODID:-//LEADERONOMICS CURATED EVENTS - ECPv6.9.0//NONSGML v1.0//EN
CALSCALE:GREGORIAN
METHOD:PUBLISH
X-ORIGINAL-URL:https://events.leaderonomics.com
X-WR-CALDESC:Events for LEADERONOMICS CURATED EVENTS
REFRESH-INTERVAL;VALUE=DURATION:PT1H
X-Robots-Tag:noindex
X-PUBLISHED-TTL:PT1H
BEGIN:VTIMEZONE
TZID:Asia/Shanghai
BEGIN:STANDARD
TZOFFSETFROM:+0800
TZOFFSETTO:+0800
TZNAME:CST
DTSTART:20240101T000000
END:STANDARD
END:VTIMEZONE
BEGIN:VEVENT
DTSTART;TZID=Asia/Shanghai:20240827T090000
DTEND;TZID=Asia/Shanghai:20240827T170000
DTSTAMP:20260423T065544
CREATED:20240419T022032Z
LAST-MODIFIED:20240719T064533Z
UID:10000002-1724749200-1724778000@events.leaderonomics.com
SUMMARY:HRD Corp Claimable Public Programmes
DESCRIPTION:
URL:https://events.leaderonomics.com/event/hrdc-programmes/
END:VEVENT
END:VCALENDAR